BEGIN:VCALENDAR
VERSION:2.0
PRODID:-//ChamberMaster//Event Calendar 2.0//EN
METHOD:PUBLISH
X-PUBLISHED-TTL:P3D
REFRESH-INTERVAL:P3D
CALSCALE:GREGORIAN
BEGIN:VEVENT
DTSTART:20130125T230000Z
DTEND:20130126T030000Z
X-MICROSOFT-CDO-ALLDAYEVENT:FALSE
SUMMARY:FAMILY DANCE PARTY
DESCRIPTION:The theme of this United Way fundraiser is FAMILY DANCE PARTY and the band is Men of Distinction.  Food will be sold at the event to include marshmallows to roast outdoors!  NO beer\, wine or other alcoholic beverages because we want this to be a FAMILY FRIENDLY event.  The band is multifaceted and can play jazz\, beach\, 50's\, rock\, classical\, Motown\, R&B\, etc.  Tickets sell for $15 for adults and $5 for children (teens and children must be accompanied by an adult).  Special contests such as limbo\, shag\, and the twist will be featured throughout the nignt to get entire families on the dance floor experiencing the music and dances from the past!  COME JOIN THE FUN!!!!  Call 843-549-9594  x 103 to purchase tickets\, purchase tickets at the door or Register online at \n\nezregister.com\n\nClick: Find Event\n\nType: Family Dance Party
X-ALT-DESC;FMTTYPE=text/html:The theme of this United Way fundraiser is FAMILY DANCE PARTY and the band is Men of Distinction. &nbsp\;Food will be sold at the event to include marshmallows to roast outdoors! &nbsp\;NO beer\, wine or other alcoholic beverages because we want this to be a FAMILY FRIENDLY event. &nbsp\;The band is multifaceted and can play jazz\, beach\, 50&#39\;s\, rock\, classical\, Motown\, R&amp\;B\, etc. &nbsp\;Tickets sell for $15 for adults and $5 for children (teens and children must be accompanied by an adult). &nbsp\;Special contests such as limbo\, shag\, and the twist will be featured throughout the nignt to get entire families on the dance floor experiencing the music and dances from the past! &nbsp\;COME JOIN THE FUN!!!! &nbsp\;Call 843-549-9594 &nbsp\;x 103 to purchase tickets\, purchase tickets at the door&nbsp\;or Register online at&nbsp\;<br />\nezregister.com<br />\nClick: Find Event<br />\nType: Family Dance Party<br />\n<br />\n
LOCATION:Walterboro National Guard Armory
UID:e.528.463
SEQUENCE:3
DTSTAMP:20260422T135554Z
URL:https://business.colletonchamber.org/events/details/family-dance-party-01-25-2013-463
END:VEVENT

END:VCALENDAR
