BEGIN:VCALENDAR
VERSION:2.0
PRODID:-//ChamberMaster//Event Calendar 2.0//EN
METHOD:PUBLISH
X-PUBLISHED-TTL:P3D
REFRESH-INTERVAL:P3D
CALSCALE:GREGORIAN
BEGIN:VEVENT
DTSTART;VALUE=DATE:20120511
DTEND;VALUE=DATE:20121112
TRANSP:TRANSPARENT
X-MICROSOFT-CDO-ALLDAYEVENT:TRUE
SUMMARY:Farmers Market
DESCRIPTION:The Farmers Market is now opened on Tuesday from 2pm til 6pm and Saturday from10am til 2pm. Please come out for some wonderful fresh fruits and vegetables\, beautiful plants and flowers\, fresh bakery products\, homemade crafts and so much more  We now accept credit/debit and SNAP/EBT at the Farmers Market.\n\n\n\nWhile visiting the Market\, step inside the Museum and see lots of wonders from the past\, there is so much to see and enjoy!!!
X-ALT-DESC;FMTTYPE=text/html:The Farmers Market is now opened on Tuesday from 2pm til 6pm and Saturday from10am til 2pm. Please come out for some wonderful fresh fruits and vegetables\, beautiful plants and flowers\, fresh bakery products\, homemade crafts and so much more&nbsp\; We now accept credit/debit and SNAP/EBT at the Farmers Market.<br />\n<br />\nWhile visiting the Market\, step inside the Museum and see lots of wonders from the past\, there is so much to see and enjoy!!!
LOCATION:506 E Washington St Walterboro\, SC 29488
UID:e.528.373
SEQUENCE:3
DTSTAMP:20260422T171315Z
URL:https://business.colletonchamber.org/events/details/farmers-market-05-11-2012-373
END:VEVENT

END:VCALENDAR
