BEGIN:VCALENDAR
VERSION:2.0
PRODID:-//ChamberMaster//Event Calendar 2.0//EN
METHOD:PUBLISH
X-PUBLISHED-TTL:P3D
REFRESH-INTERVAL:P3D
CALSCALE:GREGORIAN
BEGIN:VEVENT
DTSTART:20100401T213000Z
DTEND:20100604T003000Z
X-MICROSOFT-CDO-ALLDAYEVENT:FALSE
SUMMARY:FastTrac NewVenture
DESCRIPTION:Through the efforts and partnership of the Colleton Improvement Collaborative\, Clemson Institute for Economic and Community Development\, Technical College of the Lowcountry Continuing Education & Workforce Development\, and FastTrac SC\, the FastTrac program is being offered in our community. Designed specifically for entrepreneurs in the early or growth stages of business development\, FastTrac not only helps you uncover the answers\, it also helps you determine the questions to ask. Save time and money by testing the feasibility of your business concept before you launch or expand. Form relationships with people who can prove to you that starting or growing your own business doesn't mean going it alone
X-ALT-DESC;FMTTYPE=text/html:<div><div><span style="font-size: small"><span style="font-family: Times New Roman">Through the efforts and partnership of the Colleton Improvement Collaborative\, Clemson Institute for Economic and Community Development\, Technical College of the Lowcountry Continuing Education &amp\; Workforce Development\, and FastTrac SC\, the FastTrac program is being offered in our community.</span></span></div><div>&nbsp\;</div><span style="font-family: Times New Roman"><span style="font-size: 12pt">Designed specifically for entrepreneurs in the early or growth stages of business development\, FastTrac not only helps you uncover the answers\, it also helps you determine the questions to ask. Save time and money by testing the feasibility of your business concept before you launch or expand. Form relationships with people who can prove to you that starting or growing your own business doesn&rsquo\;t mean going it alone</span></span></div>
LOCATION:Clemson Extension Services Building219 Lemacks Street
UID:e.528.161
SEQUENCE:3
DTSTAMP:20260424T084703Z
URL:https://business.colletonchamber.org/events/details/fasttrac-newventure-04-01-2010-161
END:VEVENT

END:VCALENDAR
