BEGIN:VCALENDAR
VERSION:2.0
PRODID:-//ChamberMaster//Event Calendar 2.0//EN
METHOD:PUBLISH
X-PUBLISHED-TTL:P3D
REFRESH-INTERVAL:P3D
CALSCALE:GREGORIAN
BEGIN:VEVENT
DTSTART:20110528T150000Z
DTEND:20110528T230000Z
X-MICROSOFT-CDO-ALLDAYEVENT:FALSE
SUMMARY:Fish Fry
DESCRIPTION:Fire Department Annual Fish Fry
X-ALT-DESC;FMTTYPE=text/html:Fire Department Annual Fish Fry
LOCATION:Lions Club\, Myrtle Street
UID:e.528.260
SEQUENCE:3
DTSTAMP:20260423T182345Z
URL:https://business.colletonchamber.org/events/details/fish-fry-05-28-2011-260
END:VEVENT

END:VCALENDAR
