BEGIN:VCALENDAR
VERSION:2.0
PRODID:-//ChamberMaster//Event Calendar 2.0//EN
METHOD:PUBLISH
X-PUBLISHED-TTL:P3D
REFRESH-INTERVAL:P3D
CALSCALE:GREGORIAN
BEGIN:VEVENT
DTSTART:20130228T233000Z
DTEND:20130301T160000Z
X-MICROSOFT-CDO-ALLDAYEVENT:FALSE
SUMMARY:Free Legal Seminar provided by Buckner Law Firm
DESCRIPTION:"How to think like a lawyer." Free legal Seminar provided by Dewayne T. Buckner\, Esq. of the Buckner Law Firm\, P.A.
X-ALT-DESC;FMTTYPE=text/html:&quot\;How to think like a lawyer.&quot\; Free legal Seminar provided by Dewayne T. Buckner\, Esq. of the Buckner Law Firm\, P.A.
LOCATION:113 E. Washington Street\, Walterboro\, SC 29488
UID:e.528.468
SEQUENCE:3
DTSTAMP:20260422T111240Z
URL:https://business.colletonchamber.org/events/details/free-legal-seminar-provided-by-buckner-law-firm-02-28-2013-468
END:VEVENT

END:VCALENDAR
