BEGIN:VCALENDAR
VERSION:2.0
PRODID:-//ChamberMaster//Event Calendar 2.0//EN
METHOD:PUBLISH
X-PUBLISHED-TTL:P3D
REFRESH-INTERVAL:P3D
CALSCALE:GREGORIAN
BEGIN:VEVENT
DTSTART:20120928T130000Z
DTEND:20120929T010000Z
X-MICROSOFT-CDO-ALLDAYEVENT:FALSE
SUMMARY:GIVING ON THE GREENS
DESCRIPTION:Play the beautiful Plantation Course at Edisto Beach while helping children in our community.  United Way invites you to join us for a day of fun as we raise money to purchase toys for foster care and low income children in our community this holiday season.  The entry fee is $80 per player and covers green fees\, cart fees\, and food after play is completed.  Enter a team or sign up as an individual and we will put you with a team. See you there!
X-ALT-DESC;FMTTYPE=text/html:<p>\n	Play the beautiful Plantation Course at Edisto Beach while helping children in our community.&nbsp\; United Way invites you to join us for a day of fun as we raise money to purchase toys for foster care and low income children in our community this holiday season.&nbsp\; The entry fee is $80 per player and covers green fees\, cart fees\, and food after play is completed.&nbsp\; Enter a team or sign up as an individual and we will put you with a team.&nbsp\;See you there!</p>\n
LOCATION:The Plantation Course at Edisto Beach
UID:e.528.410
SEQUENCE:3
DTSTAMP:20260422T200530Z
URL:https://business.colletonchamber.org/events/details/giving-on-the-greens-09-28-2012-410
END:VEVENT

END:VCALENDAR
