BEGIN:VCALENDAR
VERSION:2.0
PRODID:-//ChamberMaster//Event Calendar 2.0//EN
METHOD:PUBLISH
X-PUBLISHED-TTL:P3D
REFRESH-INTERVAL:P3D
CALSCALE:GREGORIAN
BEGIN:VEVENT
DTSTART:20110312T143000Z
DTEND:20110312T173000Z
X-MICROSOFT-CDO-ALLDAYEVENT:FALSE
SUMMARY:Great American Clean Up
DESCRIPTION:Save the Date\n\n	\n\n	Great American Clean Up\n\n	partners with\n\n	The Community Response Tean & Clemson Extension\n\n	\n\n	Please join us to Help Keep Colleton Beautiful!\n\n	We welcome the participation of all groups\, civic clubs and individuals\n\n	\n\n	Clean up projects may also be done March 1 - May 31
X-ALT-DESC;FMTTYPE=text/html:<p style="text-align: center">\n	<span style="font-family: comic sans ms"><span style="font-size: 26px"><span style="font-size: 24px">Save the Date</span><br />\n	<br />\n	Great American Clean Up<br />\n	<span style="font-size: 14px"><span style="font-size: 16px">partners with<br />\n	The Community Response Tean &amp\; Clemson Extension</span><br />\n	<br />\n	Please join us to Help Keep Colleton Beautiful!<br />\n	We welcome the participation of all groups\, civic clubs and individuals<br />\n	<br />\n	<span style="color: #ff0000">Clean up projects may also be done March 1 - May 31</span></span></span></span><br />\n	&nbsp\;</p>\n
LOCATION:Saints Center Ministries Church corner of Robertson & Hampton Streets
UID:e.528.244
SEQUENCE:3
DTSTAMP:20260423T205538Z
URL:https://business.colletonchamber.org/events/details/great-american-clean-up-03-12-2011-244
END:VEVENT

END:VCALENDAR
