BEGIN:VCALENDAR
VERSION:2.0
PRODID:-//ChamberMaster//Event Calendar 2.0//EN
METHOD:PUBLISH
X-PUBLISHED-TTL:P3D
REFRESH-INTERVAL:P3D
CALSCALE:GREGORIAN
BEGIN:VEVENT
DTSTART:20130316T130000Z
DTEND:20130316T210000Z
X-MICROSOFT-CDO-ALLDAYEVENT:FALSE
SUMMARY:Great American Clean Up Kick Off
DESCRIPTION:Great American Clean Up Kick Off March 16\, 2013 9:00 A.M. Saint Center Ministries Church at the corner of Robertson Blvd. and Hampton Street.
X-ALT-DESC;FMTTYPE=text/html:Great American Clean Up Kick Off March 16\, 2013 9:00 A.M. Saint Center Ministries Church at the corner of Robertson Blvd. and Hampton Street.
LOCATION:
UID:e.528.466
SEQUENCE:3
DTSTAMP:20260422T110534Z
URL:https://business.colletonchamber.org/events/details/great-american-clean-up-kick-off-03-16-2013-466
END:VEVENT

END:VCALENDAR
