BEGIN:VCALENDAR
VERSION:2.0
PRODID:-//ChamberMaster//Event Calendar 2.0//EN
METHOD:PUBLISH
X-PUBLISHED-TTL:P3D
REFRESH-INTERVAL:P3D
CALSCALE:GREGORIAN
BEGIN:VEVENT
DTSTART;VALUE=DATE:20120317
DTEND;VALUE=DATE:20120601
TRANSP:TRANSPARENT
X-MICROSOFT-CDO-ALLDAYEVENT:TRUE
SUMMARY:Great American Cleanup
DESCRIPTION:The Great American Cleanup kickoff event will be held on Saturday\, March 17 at the Saint Center Ministries Church\, Corner of Robertson Blvd & Hampton Streets\, Walterboro\, 9:00 a.m.- 12:00 noon.  (Clean Up projects may also be done March 1- May 31 in all communities). For details and supplies Call Jean Harrigal\, Keep Colleton Beautiful @ 549-2595\, Extension 125.  Please join us to help Keep Colleton County Beautiful! We welcome the participation of all groups\, civic clubs and individuals.
X-ALT-DESC;FMTTYPE=text/html:<p align="left" class="MsoBodyText2" style="text-align: left\; margin: 0in 0in 0pt">\n	<span><strong><font color="#000000">The Great American Cleanup kickoff event will be held on Saturday\, March 17 at the Saint Center Ministries Church\, Corner of <st1:street w:st="on"><st1:address w:st="on">Robertson Blvd</st1:address></st1:street> &amp\; <st1:city w:st="on"><st1:place w:st="on">Hampton</st1:place></st1:city> Streets\, Walterboro\, 9:00 a.m.- 12:00 noon. &nbsp\;(Clean Up projects may also be done March 1- May 31 in all communities). For details and supplies Call Jean Harrigal\, Keep Colleton Beautiful @ 549-2595\, Extension 125. &nbsp\;Please join us to help Keep Colleton <st1:place w:st="on"><st1:placetype w:st="on">County</st1:placetype> <st1:placename w:st="on">Beautiful</st1:placename></st1:place>! We welcome the participation of all groups\, civic clubs and individuals. &nbsp\;&nbsp\;</font></strong></span><span style="font-size: 16pt"><o:p></o:p></span></p>\n
LOCATION:Saint Center Ministries Church\, Corner of Robertson Blvd & Hampton Streets\, Walterboro
UID:e.528.358
SEQUENCE:3
DTSTAMP:20260423T025950Z
URL:https://business.colletonchamber.org/events/details/great-american-cleanup-03-17-2012-358
END:VEVENT

END:VCALENDAR
