BEGIN:VCALENDAR
VERSION:2.0
PRODID:-//ChamberMaster//Event Calendar 2.0//EN
METHOD:PUBLISH
X-PUBLISHED-TTL:P3D
REFRESH-INTERVAL:P3D
CALSCALE:GREGORIAN
BEGIN:VEVENT
DTSTART:20111211T200000Z
DTEND:20111211T210000Z
X-MICROSOFT-CDO-ALLDAYEVENT:FALSE
SUMMARY:Hanging of the Greens
DESCRIPTION:Sponsored by The Colleton County Historical and Preservation Society\, Mayfield Garden Club and the City of Walterboro.  Reception following ceremony.
X-ALT-DESC;FMTTYPE=text/html:Sponsored by The Colleton County Historical and Preservation Society\, Mayfield Garden Club and the City of Walterboro.&nbsp\; Reception following ceremony.&nbsp\;
LOCATION:803 Wichman Street
UID:e.528.315
SEQUENCE:3
DTSTAMP:20260423T100513Z
URL:https://business.colletonchamber.org/events/details/hanging-of-the-greens-12-11-2011-315
END:VEVENT

END:VCALENDAR
