BEGIN:VCALENDAR
VERSION:2.0
PRODID:-//ChamberMaster//Event Calendar 2.0//EN
METHOD:PUBLISH
X-PUBLISHED-TTL:P3D
REFRESH-INTERVAL:P3D
CALSCALE:GREGORIAN
BEGIN:VEVENT
DTSTART:20121013T140000Z
DTEND:20121013T180000Z
X-MICROSOFT-CDO-ALLDAYEVENT:FALSE
SUMMARY:Heritage Days: The Art of Living Off the Land
DESCRIPTION:Live music\, crafts\, demonstrations.  Sponsored by the Colleton Museum & Farmers Market\, SC Artisans Center\, Colleton County Arts Council.  Funded in part by United Way and Rotary International.
X-ALT-DESC;FMTTYPE=text/html:Live music\, crafts\, demonstrations.&nbsp\; Sponsored by the Colleton Museum &amp\; Farmers Market\, SC Artisans Center\, Colleton County Arts Council.&nbsp\; Funded in part by United Way and Rotary International.
LOCATION:Colleton Museum & Farmers Market\, SC Artisans Center
UID:e.528.399
SEQUENCE:3
DTSTAMP:20260422T184528Z
URL:https://business.colletonchamber.org/events/details/heritage-days-the-art-of-living-off-the-land-10-13-2012-399
END:VEVENT

END:VCALENDAR
