BEGIN:VCALENDAR
VERSION:2.0
PRODID:-//ChamberMaster//Event Calendar 2.0//EN
METHOD:PUBLISH
X-PUBLISHED-TTL:P3D
REFRESH-INTERVAL:P3D
CALSCALE:GREGORIAN
BEGIN:VEVENT
DTSTART:20121201T140000Z
DTEND:20121201T170000Z
X-MICROSOFT-CDO-ALLDAYEVENT:FALSE
SUMMARY:Holiday Craft Fair
DESCRIPTION:Visit the Colleton Museum & Farmers Market see local holiday crafters.
X-ALT-DESC;FMTTYPE=text/html:Visit the Colleton Museum &amp\; Farmers Market see local holiday crafters.
LOCATION:Colleton Museum & Farmers Market 506 East Washington Street Walterboro\, SC (843) 549-2303
UID:e.528.404
SEQUENCE:3
DTSTAMP:20260422T165631Z
URL:https://business.colletonchamber.org/events/details/holiday-craft-fair-12-01-2012-404
END:VEVENT

END:VCALENDAR
