BEGIN:VCALENDAR
VERSION:2.0
PRODID:-//ChamberMaster//Event Calendar 2.0//EN
METHOD:PUBLISH
X-PUBLISHED-TTL:P3D
REFRESH-INTERVAL:P3D
CALSCALE:GREGORIAN
BEGIN:VEVENT
DTSTART:20101119T150000Z
DTEND:20101120T220000Z
X-MICROSOFT-CDO-ALLDAYEVENT:FALSE
SUMMARY:Holiday Juried Craft Show
DESCRIPTION:SC Artisans Center's "Juried Craft Fair"\n\n	\n\n	The Center will once again host a Holiday Juried Craft Fair.  This will be an inside event on teh campus of the Center.  This year's event will offer SC Aritsans who have been accepted into a juired show within the past 2 years\, an opportunity to exhibit/sell without having to re-jury.\n\n	\n\n	The entry fee\, for Artist\, is $50 for one or both days.\n\n	For more information and applications visit the Events Page of our website: www.scartisanscenter.com
X-ALT-DESC;FMTTYPE=text/html:<p style="text-align: center">\n	<span style="font-family: times new roman"><span style="font-size: 16px">SC Artisans Center&#39\;s &quot\;Juried Craft Fair&quot\;<br />\n	<br />\n	The Center will once again host a Holiday Juried Craft Fair.&nbsp\; This will be an inside event on teh campus of the Center.&nbsp\; This year&#39\;s event will offer SC Aritsans who have been accepted into a juired show within the past 2 years\, an opportunity to exhibit/sell without having to re-jury.<br />\n	<br />\n	The entry fee\, for Artist\, is $50 for one or both days.<br />\n	For more information and applications visit the Events Page of our website: <u>www.scartisanscenter.com</u><br />\n	<span _fck_bookmark="1" style="display: none">&nbsp\;</span></span></span></p>\n
LOCATION:SC Artisans Center 334 Wichman Street
UID:e.528.202
SEQUENCE:3
DTSTAMP:20260424T022139Z
URL:https://business.colletonchamber.org/events/details/holiday-juried-craft-show-11-19-2010-202
END:VEVENT

END:VCALENDAR
