BEGIN:VCALENDAR
VERSION:2.0
PRODID:-//ChamberMaster//Event Calendar 2.0//EN
METHOD:PUBLISH
X-PUBLISHED-TTL:P3D
REFRESH-INTERVAL:P3D
CALSCALE:GREGORIAN
BEGIN:VEVENT
DTSTART:20110129T200000Z
DTEND:20110129T210000Z
X-MICROSOFT-CDO-ALLDAYEVENT:FALSE
SUMMARY:Instituting Ceremony for VFW Post #12102
DESCRIPTION:The Veterans of Foreign Wars Post 12102\n\n	will be having their instituting ceremony for their\n\n	new post and Post Commanders.\n\n	\n\n	All members and guest are invited to attend.
X-ALT-DESC;FMTTYPE=text/html:<p style="text-align: center">\n	<span style="font-size: 20px"><span style="font-family: times new roman">The Veterans of Foreign Wars Post 12102<br />\n	will be having their instituting ceremony for their<br />\n	new post and Post Commanders.<br />\n	<br />\n	All members and guest are invited to attend.</span></span></p>\n
LOCATION:Walterboro Army National Guard Armory
UID:e.528.243
SEQUENCE:3
DTSTAMP:20260423T233659Z
URL:https://business.colletonchamber.org/events/details/instituting-ceremony-for-vfw-post-12102-01-29-2011-243
END:VEVENT

END:VCALENDAR
