BEGIN:VCALENDAR
VERSION:2.0
PRODID:-//ChamberMaster//Event Calendar 2.0//EN
METHOD:PUBLISH
X-PUBLISHED-TTL:P3D
REFRESH-INTERVAL:P3D
CALSCALE:GREGORIAN
BEGIN:VEVENT
DTSTART:20130905T210000Z
DTEND:20130906T000000Z
X-MICROSOFT-CDO-ALLDAYEVENT:FALSE
SUMMARY:Ireland Creek Bridge Fun Run\,
DESCRIPTION:Sponsored by the Rotary Club
X-ALT-DESC;FMTTYPE=text/html:<p class="p1">\n	Sponsored by the Rotary Club&nbsp\;</p>\n
LOCATION:
UID:e.528.499
SEQUENCE:3
DTSTAMP:20260422T022008Z
URL:https://business.colletonchamber.org/events/details/ireland-creek-bridge-fun-run-09-05-2013-499
END:VEVENT

END:VCALENDAR
