BEGIN:VCALENDAR
VERSION:2.0
PRODID:-//ChamberMaster//Event Calendar 2.0//EN
METHOD:PUBLISH
X-PUBLISHED-TTL:P3D
REFRESH-INTERVAL:P3D
CALSCALE:GREGORIAN
BEGIN:VEVENT
DTSTART:20130302T190000Z
DTEND:20130302T210000Z
X-MICROSOFT-CDO-ALLDAYEVENT:FALSE
SUMMARY:Jery Taylor\, Colleton County Artist
DESCRIPTION:"Beaufort" Sweetgrass Baskets and Paintings of Artist Jery Taylor Saturday March 2 from 2 - 4 p.m. Free and open to the public.
X-ALT-DESC;FMTTYPE=text/html:&quot\;Beaufort&quot\; Sweetgrass Baskets and Paintings of Artist Jery Taylor Saturday March 2 from 2 - 4 p.m. Free and open to the public.
LOCATION:
UID:e.528.469
SEQUENCE:3
DTSTAMP:20260422T110605Z
URL:https://business.colletonchamber.org/events/details/jery-taylor-colleton-county-artist-03-02-2013-469
END:VEVENT

END:VCALENDAR
