BEGIN:VCALENDAR
VERSION:2.0
PRODID:-//ChamberMaster//Event Calendar 2.0//EN
METHOD:PUBLISH
X-PUBLISHED-TTL:P3D
REFRESH-INTERVAL:P3D
CALSCALE:GREGORIAN
BEGIN:VEVENT
DTSTART:20101019T230000Z
DTEND:20101020T003000Z
X-MICROSOFT-CDO-ALLDAYEVENT:FALSE
SUMMARY:La Belle Musique!
DESCRIPTION:The Colleton County Arts Council is proud to help sponsor\n\n	La Belle Musique!\n\n	Tuesday\, October 19th at 7:00 p.m. \n\n	St. Jude's Episcopal Church.\n\n	This group of professional musicians from the College of Charleston will perform early Renaissance music for voice\, organ\, recorder\, flute\, harpsichord\, violin\, and cello!\n\n	This concert is free and open to the public.
X-ALT-DESC;FMTTYPE=text/html:<p style="text-align: center">\n	<span style="font-size: 14px">The Colleton County Arts Council is proud to help sponsor<br />\n	<strong>La Belle Musique!</strong><br />\n	Tuesday\, October 19th at 7:00 p.m.&nbsp\;<br />\n	St. Jude&#39\;s Episcopal Church.<br />\n	This group of professional musicians from the College of Charleston will perform early Renaissance music for voice\, organ\, recorder\, flute\, harpsichord\, violin\, and cello!<br />\n	This concert is free and open to the public.</span></p>\n
LOCATION:Saint Jude's Episcopal Church 907 Wichman Street
UID:e.528.214
SEQUENCE:3
DTSTAMP:20260424T032349Z
URL:https://business.colletonchamber.org/events/details/la-belle-musique-10-19-2010-214
END:VEVENT

END:VCALENDAR
