BEGIN:VCALENDAR
VERSION:2.0
PRODID:-//ChamberMaster//Event Calendar 2.0//EN
METHOD:PUBLISH
X-PUBLISHED-TTL:P3D
REFRESH-INTERVAL:P3D
CALSCALE:GREGORIAN
BEGIN:VEVENT
DTSTART;VALUE=DATE:20110304
DTEND;VALUE=DATE:20110321
TRANSP:TRANSPARENT
X-MICROSOFT-CDO-ALLDAYEVENT:TRUE
SUMMARY:Lancome gift at Belk
DESCRIPTION:Lancome Gift is going on now. Spend $32.50 or more and get your free gift. Lancome beauty advisor Lizzie is waiting to talk to you. 843-782-8000 ext. 268
X-ALT-DESC;FMTTYPE=text/html:Lancome Gift is going on now. Spend $32.50 or more and get your free gift. Lancome beauty advisor Lizzie is waiting to talk to you. 843-782-8000 ext. 268\n<br>
LOCATION:
UID:e.528.275
SEQUENCE:3
DTSTAMP:20260423T205452Z
URL:https://business.colletonchamber.org/events/details/lancome-gift-at-belk-03-04-2011-275
END:VEVENT

END:VCALENDAR
