BEGIN:VCALENDAR
VERSION:2.0
PRODID:-//ChamberMaster//Event Calendar 2.0//EN
METHOD:PUBLISH
X-PUBLISHED-TTL:P3D
REFRESH-INTERVAL:P3D
CALSCALE:GREGORIAN
BEGIN:VEVENT
DTSTART;VALUE=DATE:20110305
DTEND;VALUE=DATE:20110306
TRANSP:TRANSPARENT
X-MICROSOFT-CDO-ALLDAYEVENT:TRUE
SUMMARY:Let's Go! EXPO
DESCRIPTION:Jump in and plan to be at the\n\n	\n\n	Let's Go! EXPO\n\n	\n\n	Fun Walk\n\n	Enjoy Fun for the Whole Family\n\n	Fitness Showcase\n\n	Health Talks\n\n	Eat Right Food Fight Cook-off\n\n	and lots More!\n\n	\n\n	It's all FREE!\n\n	\n\n	Participate in 5 or more activities and receive a FREE t-shirt!
X-ALT-DESC;FMTTYPE=text/html:<p style="text-align: center">\n	<span style="font-family: verdana"><span style="font-size: 22px"><span style="font-size: 18px">Jump in and plan to be at the</span><br />\n	<br />\n	Let&#39\;s Go! EXPO<br />\n	<br />\n	<span style="font-size: 14px">Fun Walk</span><br />\n	<span style="font-size: 14px">Enjoy Fun for the Whole Family<br />\n	Fitness Showcase<br />\n	Health Talks<br />\n	Eat Right Food Fight Cook-off<br />\n	and lots More!</span><br />\n	<br />\n	It&#39\;s all FREE!<br />\n	<br />\n	<span style="font-size: 14px">Participate&nbsp\;in 5 or more activities and receive a FREE t-shirt!&nbsp\;</span></span></span><br />\n	&nbsp\;</p>\n
LOCATION:The Colleton Center 494 Hampton Street
UID:e.528.272
SEQUENCE:3
DTSTAMP:20260423T205416Z
URL:https://business.colletonchamber.org/events/details/let-s-go-expo-03-05-2011-272
END:VEVENT

END:VCALENDAR
