BEGIN:VCALENDAR
VERSION:2.0
PRODID:-//ChamberMaster//Event Calendar 2.0//EN
METHOD:PUBLISH
X-PUBLISHED-TTL:P3D
REFRESH-INTERVAL:P3D
CALSCALE:GREGORIAN
BEGIN:VEVENT
DTSTART:20130520T120000Z
DTEND:20130520T193000Z
X-MICROSOFT-CDO-ALLDAYEVENT:FALSE
SUMMARY:Low Country Small Business-Lender Match Maker Event
DESCRIPTION:Workshop includes small business learning & networking -\n\n*Experts share advice on business planning & financing\n\n*Peer success stories\n\n*Bank & credit union lenders ready to meet one-on-one\n\n*Small business counselors on hand\n\n*Lunch provided
X-ALT-DESC;FMTTYPE=text/html:Workshop includes small business learning &amp\; networking -<br />\n*Experts share advice on business planning &amp\; financing<br />\n*Peer success stories<br />\n*Bank &amp\; credit union lenders ready to meet one-on-one<br />\n*Small business counselors on hand<br />\n*Lunch provided
LOCATION:University of South Carolina Beaufort One University Boulevard Bluffton\, SC 29909
UID:e.528.493
SEQUENCE:3
DTSTAMP:20260422T093422Z
URL:https://business.colletonchamber.org/events/details/low-country-small-business-lender-match-maker-event-05-20-2013-493
END:VEVENT

END:VCALENDAR
