BEGIN:VCALENDAR
VERSION:2.0
PRODID:-//ChamberMaster//Event Calendar 2.0//EN
METHOD:PUBLISH
X-PUBLISHED-TTL:P3D
REFRESH-INTERVAL:P3D
CALSCALE:GREGORIAN
BEGIN:VEVENT
DTSTART;VALUE=DATE:20100514
DTEND;VALUE=DATE:20100530
TRANSP:TRANSPARENT
X-MICROSOFT-CDO-ALLDAYEVENT:TRUE
SUMMARY:Lowcountry Juried Art Exhibition
DESCRIPTION:The 4th Annual Antiques\, Art\, and History Festival will be held May 14 and 15th in historic downtown Walterboro at the education building located on the grounds of the SC Artisans Center.  The 7th Annual Lowcountry Juried Arts Exhibition is planned to be held in conjunction with the festival. Through the joint efforts of the South Carolina ArtisansCenter\, the Colleton County Arts Council\, and the Colleton Museum\, this exhibition promises to be yet again one of the premier cultural events in the Lowcountry.  Vote for People's Choice Award on May 14 10 am - 5 pm and May 15 10 am - 2 pm. \n OPENING AWARDS RECEPTION May 15 6-8 pm.  Open to the public.
X-ALT-DESC;FMTTYPE=text/html:<div><span style="font-size: small">The 4th Annual Antiques\, Art\, and History Festival will be held May 14 and 15th in historic downtown Walterboro at the education building located on the grounds of the SC Artisans Center. </span></div><div>&nbsp\;</div><div><span style="font-size: small">The 7th Annual Lowcountry Juried Arts Exhibition is planned to be held in conjunction with the festival. Through the joint efforts of the South Carolina ArtisansCenter\, the Colleton County Arts Council\, and the Colleton Museum\, this exhibition promises to be yet again one of the premier cultural events in the Lowcountry. </span></div><div>&nbsp\;</div><div><span style="font-size: small">Vote for People&rsquo\;s Choice Award on May 14 10 am - 5 pm&nbsp\;and May 15 </span></div><div><span style="font-size: small">10 am - 2 pm. <br /></span></div><div>&nbsp\;</div><div><span style="font-size: small">OPENING AWARDS RECEPTION May 15 6-8 pm.&nbsp\;&nbsp\;Open to the public. <br /></span></div>
LOCATION:334 Wichman St
UID:e.528.182
SEQUENCE:3
DTSTAMP:20260424T102459Z
URL:https://business.colletonchamber.org/events/details/lowcountry-juried-art-exhibition-05-14-2010-182
END:VEVENT

END:VCALENDAR
