BEGIN:VCALENDAR
VERSION:2.0
PRODID:-//ChamberMaster//Event Calendar 2.0//EN
METHOD:PUBLISH
X-PUBLISHED-TTL:P3D
REFRESH-INTERVAL:P3D
CALSCALE:GREGORIAN
BEGIN:VEVENT
DTSTART:20110409T123000Z
DTEND:20110409T150000Z
X-MICROSOFT-CDO-ALLDAYEVENT:FALSE
SUMMARY:March for Babies-Walterboro
DESCRIPTION:Three mile walking event where individuals raise money to support the March of Dimes' mission. Individuals who raise more than $200 receive the official March for Babies t-shirt. Other incentives include gift cards to either Macy's or K-mart.\n\n	\n\n	Help save babies today by participating in the nation's longest running walking event - March for Babies.
X-ALT-DESC;FMTTYPE=text/html:<p>\n	<span style="font-family: times new roman"><span style="font-size: 14px">Three mile walking event where individuals raise money to support the March of Dimes&#39\; mission. Individuals who raise more than $200 receive the official March for Babies t-shirt. Other incentives include gift cards to either Macy&#39\;s or K-mart.</span></span></p>\n<p>\n	<br />\n	<span style="font-family: times new roman"><span style="font-size: 14px">Help save babies today by participating in the nation&#39\;s longest running walking event&nbsp\;- March for Babies.</span></span></p>\n
LOCATION:Colleton Medical Center
UID:e.528.246
SEQUENCE:3
DTSTAMP:20260423T194824Z
URL:https://business.colletonchamber.org/events/details/march-for-babies-walterboro-04-09-2011-246
END:VEVENT

END:VCALENDAR
