BEGIN:VCALENDAR
VERSION:2.0
PRODID:-//ChamberMaster//Event Calendar 2.0//EN
METHOD:PUBLISH
X-PUBLISHED-TTL:P3D
REFRESH-INTERVAL:P3D
CALSCALE:GREGORIAN
BEGIN:VEVENT
DTSTART:20101010T170000Z
DTEND:20101010T200000Z
X-MICROSOFT-CDO-ALLDAYEVENT:FALSE
SUMMARY:Meet the Artist Reception - With These Hands Gallery
DESCRIPTION:With These Hands Gallery celebrates  American Craft Week\n\n	  \n\n	Meet The Artist Reception    \n\n	\n\n	Come early for the best selection of artwork!  Admission is free. Door prizes throughout event.  Reservations will be accepted but are not required.\n\n	\n\n	Proprietor and long-time Edisto resident Carolyn Kelsey chose to feature all local Edisto artists for this first time event.   "It's an honor to be able to showcase such impressive collections.  Most of our artists have been recognized with numerous awards and accolades\, and we are so lucky to have them all reside here on Edisto.  It is my pleasure to host this event on their behalf."  The event will be catered by McConkey's Jungle Shack\, home of Edisto's favorite homemade soups\, sandwiches\, and desserts!
X-ALT-DESC;FMTTYPE=text/html:<p style="text-align: center">\n	<span style="font-size: 14px"><font face="Times New Roman"><span style="font-style: italic\; font-weight: bold">With These Hands Gallery</span>&nbsp\;celebrates&nbsp\; American Craft Week<br />\n	&nbsp\;&nbsp\;</font></span><br />\n	<span style="font-size: 14px"><font face="Times New Roman"><span style="font-size: 16px">Meet The Artist Receptio</span><span style="font-size: 16px">n</span>&nbsp\;&nbsp\;&nbsp\;<span _fck_bookmark="1" style="display: none">&nbsp\;</span></font></span><br />\n	<br />\n	<span style="font-family: 'times new roman'\; font-size: 11pt">Come early for the best selection of artwork!&nbsp\; Admission is free. Door prizes throughout event.&nbsp\; Reservations will be accepted but are not required.<br />\n	<br />\n	<span style="font-size: small"><span style="font-family: times new roman"><span style="font-size: 11pt"><span style="font-family: times new roman">Proprietor and long-time Edisto resident Carolyn Kelsey chose to feature all local Edisto artists for this first time event.&nbsp\; &nbsp\;&ldquo\;It&rsquo\;s an honor to be able to showcase such impressive collections.&nbsp\; Most of our artists have been recognized with numerous awards and accolades\, and we are so lucky to have them all reside here on Edisto.&nbsp\; It is my pleasure to host this event on their behalf.&rdquo\;&nbsp\; The event will be catered by McConkey&rsquo\;s Jungle Shack\, home of Edisto&rsquo\;s favorite homemade soups\, sandwiches\, and desserts!&nbsp\;</span></span></span></span><br />\n	<br />\n	<span _fck_bookmark="1" style="display: none">&nbsp\;</span></span></p>\n
LOCATION:1444 Highway 174 (next to the Old Post Office restaurant) Edisto Island\, SC
UID:e.528.211
SEQUENCE:3
DTSTAMP:20260424T032516Z
URL:https://business.colletonchamber.org/events/details/meet-the-artist-reception-with-these-hands-gallery-10-10-2010-211
END:VEVENT

END:VCALENDAR
