BEGIN:VCALENDAR
VERSION:2.0
PRODID:-//ChamberMaster//Event Calendar 2.0//EN
METHOD:PUBLISH
X-PUBLISHED-TTL:P3D
REFRESH-INTERVAL:P3D
CALSCALE:GREGORIAN
BEGIN:VEVENT
DTSTART:20111104T160000Z
DTEND:20111104T170000Z
X-MICROSOFT-CDO-ALLDAYEVENT:FALSE
SUMMARY:Museum and Farmers Market Grand Opening
DESCRIPTION:Grand Opening and Ribbon Cuttin
X-ALT-DESC;FMTTYPE=text/html:Grand Opening and Ribbon Cuttin
LOCATION:Museum
UID:e.528.308
SEQUENCE:3
DTSTAMP:20260423T100652Z
URL:https://business.colletonchamber.org/events/details/museum-and-farmers-market-grand-opening-11-04-2011-308
END:VEVENT

END:VCALENDAR
