BEGIN:VCALENDAR
VERSION:2.0
PRODID:-//ChamberMaster//Event Calendar 2.0//EN
METHOD:PUBLISH
X-PUBLISHED-TTL:P3D
REFRESH-INTERVAL:P3D
CALSCALE:GREGORIAN
BEGIN:VEVENT
DTSTART:20121117T230000Z
DTEND:20121118T020000Z
X-MICROSOFT-CDO-ALLDAYEVENT:FALSE
SUMMARY:NEW HARMONIES Opening Concert
DESCRIPTION:Marlena Smalls & the Hallelujah Singers at Hampton Street Auditorium to kick off the Smithsonian exhibit:  NEW HARMONIES: CELEBRATING AMERICAN ROOTS MUSIC.  Reception immediately following the concert for first preview of the exhibit at the Colleton Museum & Farmers Market.  Sponsors of the event are the Colleton Museum & Farmers Market\, Colleton Center\, Colleton County Arts Council\, and the Colleton County Memorial Library with support from the Walterboro-Colleton Chamber of Commerce.  Exhibit will be on display at the Museum through Jan. 6\, 2013.  Tickets avail. from any of the sponsoring organizations.\n\n\n\nNEW HARMONIES has been made possible in South Carolina by the Humanities Council SC.  New Harmonies is part of the Museum on Main Street\, collaboration between the Smithsonian Institution and the Federation of State Humanities Councils.
X-ALT-DESC;FMTTYPE=text/html:Marlena Smalls &amp\; the Hallelujah Singers at Hampton Street Auditorium to kick off the Smithsonian exhibit:&nbsp\; NEW HARMONIES: CELEBRATING AMERICAN ROOTS MUSIC.&nbsp\; Reception immediately following the concert for first preview of the exhibit at the Colleton Museum &amp\; Farmers Market.&nbsp\; Sponsors of the event are the Colleton Museum &amp\; Farmers Market\, Colleton Center\, Colleton County Arts Council\, and the Colleton County Memorial Library with support from the Walterboro-Colleton Chamber of Commerce.&nbsp\; Exhibit will be on display at the Museum through Jan. 6\, 2013.&nbsp\; Tickets avail. from any of the sponsoring organizations.<br />\n<br />\nNEW HARMONIES has been made possible in South Carolina by the Humanities Council SC.&nbsp\; New Harmonies is part of the Museum on Main Street\, collaboration between the Smithsonian Institution and the Federation of State Humanities Councils.
LOCATION:
UID:e.528.401
SEQUENCE:3
DTSTAMP:20260422T171014Z
URL:https://business.colletonchamber.org/events/details/new-harmonies-opening-concert-11-17-2012-401
END:VEVENT

END:VCALENDAR
