BEGIN:VCALENDAR
VERSION:2.0
PRODID:-//ChamberMaster//Event Calendar 2.0//EN
METHOD:PUBLISH
X-PUBLISHED-TTL:P3D
REFRESH-INTERVAL:P3D
CALSCALE:GREGORIAN
BEGIN:VEVENT
DTSTART:20110106T140000Z
DTEND:20110106T153000Z
X-MICROSOFT-CDO-ALLDAYEVENT:FALSE
SUMMARY:NonProfit Organizational Meeting
DESCRIPTION:Walterboro-Colleton Chamber of Commerce\n\n	 \n\n	and\n\n	 \n\n	Clemson Extension Service \n\n	\n\n	Invite you to attend the second meeting to discuss an organization of nonprofits and volunteer administrators.  We are focusing on Bamberg\, Colleton\, Hampton and Jasper Counties. At this meeting we will get more specific about the purpose of the organization and the process for getting the word out to those who may benefit from \n\n	the collaboration\, networking\, and training.
X-ALT-DESC;FMTTYPE=text/html:<p style="text-align: center">\n	<span style="font-size: 16pt"><span style="color: black"><span style="font-family: georgia\, serif"><span style="font-size: 11px"><span style="font-size: 12pt"><span style="color: black"><span style="font-family: georgia\, serif">Walterboro-Colleton Chamber of Commerce</span></span></span><br />\n	&nbsp\;<br />\n	<span style="font-size: 10pt"><span style="color: black"><span style="font-family: georgia\, serif">and</span></span></span><br />\n	&nbsp\;<br />\n	<span style="font-size: 12pt"><span style="color: black"><span style="font-family: georgia\, serif">Clemson Extension Service&nbsp\;</span></span></span></span><br />\n	<br />\n	I</span></span></span><span style="font-size: 10pt"><span style="color: black"><span style="font-family: georgia\, serif">nvite you to attend the second meeting to discuss an organization of nonprofits and volunteer administrators.&nbsp\; We are focusing on Bamberg\, Colleton\, Hampton and Jasper Counties. </span></span></span><span style="font-size: 10pt"><span style="font-family: georgia\, serif">At this meeting we will get more specific about the purpose of the organization and the process for getting the word out to those who may benefit from </span></span><br />\n	<span style="font-size: 10pt"><span style="font-family: georgia\, serif">the collaboration\, networking\, and training.&nbsp\;</span></span><br />\n	&nbsp\;</p>\n
LOCATION:Clemson Extension Office 219 South Lemacks Street
UID:e.528.228
SEQUENCE:3
DTSTAMP:20260423T235014Z
URL:https://business.colletonchamber.org/events/details/nonprofit-organizational-meeting-01-06-2011-228
END:VEVENT

END:VCALENDAR
