BEGIN:VCALENDAR
VERSION:2.0
PRODID:-//ChamberMaster//Event Calendar 2.0//EN
METHOD:PUBLISH
X-PUBLISHED-TTL:P3D
REFRESH-INTERVAL:P3D
CALSCALE:GREGORIAN
BEGIN:VEVENT
DTSTART:20111015T220000Z
DTEND:20111016T000000Z
X-MICROSOFT-CDO-ALLDAYEVENT:FALSE
SUMMARY:Oyster Roast - Collecton County Historical and Preservation Society
DESCRIPTION:Oyster roast and silent auction to benefit the Colleton County Historical and Preservation Society
X-ALT-DESC;FMTTYPE=text/html:Oyster roast and silent auction to benefit the Colleton County Historical and Preservation Society
LOCATION:Bedon-Lucas House 205 Church Street Walterboro\, SC
UID:e.528.296
SEQUENCE:3
DTSTAMP:20260423T125401Z
URL:https://business.colletonchamber.org/events/details/oyster-roast-collecton-county-historical-and-preservation-society-10-15-2011-296
END:VEVENT

END:VCALENDAR
