BEGIN:VCALENDAR
VERSION:2.0
PRODID:-//ChamberMaster//Event Calendar 2.0//EN
METHOD:PUBLISH
X-PUBLISHED-TTL:P3D
REFRESH-INTERVAL:P3D
CALSCALE:GREGORIAN
BEGIN:VEVENT
DTSTART:20120830T140000Z
DTEND:20120830T143000Z
X-MICROSOFT-CDO-ALLDAYEVENT:FALSE
SUMMARY:PakNet Ribbon Cutting
DESCRIPTION:
X-ALT-DESC;FMTTYPE=text/html:
LOCATION:
UID:e.528.379
SEQUENCE:3
DTSTAMP:20260422T212547Z
URL:https://business.colletonchamber.org/events/details/paknet-ribbon-cutting-08-30-2012-379
END:VEVENT

END:VCALENDAR
