BEGIN:VCALENDAR
VERSION:2.0
PRODID:-//ChamberMaster//Event Calendar 2.0//EN
METHOD:PUBLISH
X-PUBLISHED-TTL:P3D
REFRESH-INTERVAL:P3D
CALSCALE:GREGORIAN
BEGIN:VEVENT
DTSTART:20101106T170000Z
DTEND:20101106T200000Z
X-MICROSOFT-CDO-ALLDAYEVENT:FALSE
SUMMARY:Palmetto Primary Care Open House Festival
DESCRIPTION:Open House Festival \n\n	\n\n	Welcome Palmetto Primary Care to Walterboro\n\n	\n\n	Free Food\, Games\, Prizes\, Blood Pressure Screenings\,\n\n	Jump Castle\, and More.\n\n	\n\n	Everyone is Welcome! Fun for the Whole Family!
X-ALT-DESC;FMTTYPE=text/html:<p style="text-align: center">\n	<span style="font-size: 18px">Open House Festival&nbsp\;</span><br />\n	<br />\n	<span style="font-size: 14px">Welcome Palmetto Primary Care to Walterboro<br />\n	<br />\n	Free Food\, Games\, Prizes\, Blood Pressure Screenings\,<br />\n	Jump Castle\, and More.<br />\n	<br />\n	Everyone is Welcome! Fun for the Whole Family!</span></p>\n
LOCATION:457 Spruce Street\, Walterboro If traveling from North Jeffries Blvd\, turn near the Lil Cricket. If traveling from Robertson\, turn after the First Federal.
UID:e.528.215
SEQUENCE:3
DTSTAMP:20260424T022412Z
URL:https://business.colletonchamber.org/events/details/palmetto-primary-care-open-house-festival-11-06-2010-215
END:VEVENT

END:VCALENDAR
