BEGIN:VCALENDAR
VERSION:2.0
PRODID:-//ChamberMaster//Event Calendar 2.0//EN
METHOD:PUBLISH
X-PUBLISHED-TTL:P3D
REFRESH-INTERVAL:P3D
CALSCALE:GREGORIAN
BEGIN:VEVENT
DTSTART:20111016T200000Z
DTEND:20111016T220000Z
X-MICROSOFT-CDO-ALLDAYEVENT:FALSE
SUMMARY:Plantation Tour - Colleton County Historical & Preservation Society
DESCRIPTION:
X-ALT-DESC;FMTTYPE=text/html:
LOCATION:Tour of Colleton County Plantations
UID:e.528.297
SEQUENCE:3
DTSTAMP:20260423T113501Z
URL:https://business.colletonchamber.org/events/details/plantation-tour-colleton-county-historical-preservation-society-10-16-2011-297
END:VEVENT

END:VCALENDAR
