BEGIN:VCALENDAR
VERSION:2.0
PRODID:-//ChamberMaster//Event Calendar 2.0//EN
METHOD:PUBLISH
X-PUBLISHED-TTL:P3D
REFRESH-INTERVAL:P3D
CALSCALE:GREGORIAN
BEGIN:VEVENT
DTSTART;VALUE=DATE:20111105
DTEND;VALUE=DATE:20111106
TRANSP:TRANSPARENT
X-MICROSOFT-CDO-ALLDAYEVENT:TRUE
SUMMARY:Polo for the Point
DESCRIPTION:Annual Polo for the Point \n\n	 \n\n	to benefit\n\n	 \n\n	The Colleton Center's restoration and preservation.
X-ALT-DESC;FMTTYPE=text/html:<div style="text-align: center">\n	<span style="font-size: small">Annual Polo for the Point </span></div>\n<div style="text-align: center">\n	&nbsp\;</div>\n<div style="text-align: center">\n	to benefit</div>\n<div style="text-align: center">\n	&nbsp\;</div>\n<div style="text-align: center">\n	<span style="font-size: small">The Colleton Center&#39\;s restoration and preservation. </span></div>\n
LOCATION:Limehouse Polo Grounds\, Highway 15\, Walterboro
UID:e.528.194
SEQUENCE:3
DTSTAMP:20260423T100155Z
URL:https://business.colletonchamber.org/events/details/polo-for-the-point-11-05-2011-194
END:VEVENT

END:VCALENDAR
