BEGIN:VCALENDAR
VERSION:2.0
PRODID:-//ChamberMaster//Event Calendar 2.0//EN
METHOD:PUBLISH
X-PUBLISHED-TTL:P3D
REFRESH-INTERVAL:P3D
CALSCALE:GREGORIAN
BEGIN:VEVENT
DTSTART:20240724T160000Z
DTEND:20240724T180000Z
X-MICROSOFT-CDO-ALLDAYEVENT:FALSE
SUMMARY:RSVP Required - Lunch and Learn AI Best Practices for Business Hosted by TCL.
DESCRIPTION:AI Best Practices for Business - Lunch & Learn - RSVP required.
X-ALT-DESC;FMTTYPE=text/html:AI Best Practices for Business - Lunch &amp\; Learn - RSVP required.
LOCATION:Colleton County School District Training Room 1 500 Forest Circle\, Walterboro SC
UID:e.528.3116
SEQUENCE:3
DTSTAMP:20260423T155807Z
URL:https://business.colletonchamber.org/events/details/rsvp-required-lunch-and-learn-ai-best-practices-for-business-hosted-by-tcl-3116
END:VEVENT

END:VCALENDAR
