BEGIN:VCALENDAR
VERSION:2.0
PRODID:-//ChamberMaster//Event Calendar 2.0//EN
METHOD:PUBLISH
X-PUBLISHED-TTL:P3D
REFRESH-INTERVAL:P3D
CALSCALE:GREGORIAN
BEGIN:VEVENT
DTSTART:20120310T140000Z
DTEND:20120310T170000Z
X-MICROSOFT-CDO-ALLDAYEVENT:FALSE
SUMMARY:Rudy Mancke Great Swamp Sanctuary Walk and Talk
DESCRIPTION:Please join Rudy Mancke\, adjunct teacher with the School of the Environment at the University of South Carolina and former host of ETV's "NatureScene\," for a Walk and Talk in our Great Swamp Sanctuary on Saturday\, Mar. 10\, at 9:00 a.m. at 399 DeTreville Street. Please wear comfortable clothes and shoes. Tickets are available at Downtown Books and Espresso\, Hiott's Pharmacy\, Colleton Museum\, South Carolina Artisans' Center\, Griffin Jewelers\, and Olde House Caf . Tickets for adults are $10\, and tickets for students 12 and under are $5. Checks may be made out to the City of Walterboro with GSS listed on the memo line. You may also purchase your tickets at the gate the day of the Walk and Talk. For further information\, please call Celeste Stone at 549-7658.
X-ALT-DESC;FMTTYPE=text/html:<p>\n	<span lang="EN">Please join Rudy Mancke\, adjunct teacher with the School of the Environment at the University of South Carolina and former host of ETV&rsquo\;s &ldquo\;NatureScene\,&rdquo\; for a Walk and Talk in our Great Swamp Sanctuary on Saturday\, Mar. 10\, at 9:00 a.m. at 399 DeTreville Street. Please wear comfortable clothes and shoes. Tickets are available at Downtown Books and Espresso\, Hiott&rsquo\;s Pharmacy\, Colleton Museum\, South Carolina Artisans&rsquo\; Center\, Griffin Jewelers\, and Olde House Caf&eacute\;. Tickets for adults are $10\, and tickets for students 12 and under are $5. Checks may be made out to the City of Walterboro with GSS listed on the memo line. You may also purchase your tickets at the gate the day of the Walk and Talk. For further information\, please call Celeste Stone at 549-7658.</span></p>\n
LOCATION:Great Swamp Sanctuary - 399 DeTreville St.\, Walterboro\, SC
UID:e.528.362
SEQUENCE:3
DTSTAMP:20260423T042718Z
URL:https://business.colletonchamber.org/events/details/rudy-mancke-great-swamp-sanctuary-walk-and-talk-03-10-2012-362
END:VEVENT

END:VCALENDAR
