BEGIN:VCALENDAR
VERSION:2.0
PRODID:-//ChamberMaster//Event Calendar 2.0//EN
METHOD:PUBLISH
X-PUBLISHED-TTL:P3D
REFRESH-INTERVAL:P3D
CALSCALE:GREGORIAN
BEGIN:VEVENT
DTSTART:20101022T223000Z
DTEND:20101023T003000Z
X-MICROSOFT-CDO-ALLDAYEVENT:FALSE
SUMMARY:Salkehatchie Stew Colleton Collection of Stories
DESCRIPTION:Salkehatchie StewThe Colleton Collection Mystery Stroll "Who Done It"Participants will collect clues from downtown merchants and compete to solve the crime.
X-ALT-DESC;FMTTYPE=text/html:<div style="text-align: center"><span style="font-family: Times New Roman"><span style="font-size: medium">Salkehatchie Stew</span></span></div><div style="text-align: center"><span style="font-family: Times New Roman"><span style="font-size: medium">The Colleton Collection</span></span></div><div style="text-align: center">&nbsp\;</div><div style="text-align: center"><span style="font-family: Times New Roman"><span style="font-size: medium">Mystery Stroll &quot\;Who Done It&quot\;</span></span></div><div style="text-align: center"><span style="font-family: Times New Roman"><span style="font-size: small">Participants will collect clues from downtown merchants</span></span></div><div style="text-align: center"><span style="font-family: Times New Roman"><span style="font-size: small">&nbsp\;and compete to solve the crime.</span></span></div><div style="text-align: center">&nbsp\;</div><div style="text-align: center">&nbsp\;</div>
LOCATION:Downtown Walterborowaterfall plaza
UID:e.528.188
SEQUENCE:3
DTSTAMP:20260424T032743Z
URL:https://business.colletonchamber.org/events/details/salkehatchie-stew-colleton-collection-of-stories-10-22-2010-188
END:VEVENT

END:VCALENDAR
