BEGIN:VCALENDAR
VERSION:2.0
PRODID:-//ChamberMaster//Event Calendar 2.0//EN
METHOD:PUBLISH
X-PUBLISHED-TTL:P3D
REFRESH-INTERVAL:P3D
CALSCALE:GREGORIAN
BEGIN:VEVENT
DTSTART:20110304T180000Z
DTEND:20110304T190000Z
X-MICROSOFT-CDO-ALLDAYEVENT:FALSE
SUMMARY:SCAVA - Organizational Meeting
DESCRIPTION:SCAVA - Organizational Meeting\n\n	(South Carolina Association of Volunteer Administrators)\n\n	\n\n	We are forming an affiliate chapter of SCAVA for Colleton\, Hampton\,and Jasper Counties.  SCAVA is a nonprofit organization that provides opportunities for personal and professional development to individuals with an interest in the field of volunteerism.  Membership is extended to individuals in the public and private sectors.
X-ALT-DESC;FMTTYPE=text/html:<p style="text-align: center">\n	<span style="font-family: verdana"><span style="font-size: 16px">SCAVA - Organizational Meeting<br />\n	<span style="font-size: 12px">(South Carolina Association of Volunteer Administrators)<br />\n	<br />\n	We are forming an affiliate chapter of SCAVA for Colleton\, Hampton\,and Jasper Counties.&nbsp\; SCAVA is a nonprofit organization that provides opportunities for personal and professional development to individuals with an interest in the field of volunteerism.&nbsp\; Membership is extended to individuals in the public and private sectors.</span></span></span></p>\n
LOCATION:Clemson Extension Office 219 South Lemacks Street (use Black Street entrance)
UID:e.528.274
SEQUENCE:3
DTSTAMP:20260423T205653Z
URL:https://business.colletonchamber.org/events/details/scava-organizational-meeting-03-04-2011-274
END:VEVENT

END:VCALENDAR
