BEGIN:VCALENDAR
VERSION:2.0
PRODID:-//ChamberMaster//Event Calendar 2.0//EN
METHOD:PUBLISH
X-PUBLISHED-TTL:P3D
REFRESH-INTERVAL:P3D
CALSCALE:GREGORIAN
BEGIN:VEVENT
DTSTART:20130813T160000Z
DTEND:20130813T170000Z
X-MICROSOFT-CDO-ALLDAYEVENT:FALSE
SUMMARY:SCETV's Making It Grow is Coming to Colleton Museum
DESCRIPTION:The Emmy Award-winning Making it Grow! is a live\, interactive call-in program produced by ETV and Clemson University. Host Amanda McNulty from Clemson Extension along with Clemson Extension Resource Agent Terasa Young and featured guests focus on gardening topics\, while highlighting interesting places and products from around the state. Colleton Museum and Farmers Market is the FEATURE!\n\n	Filming begins TUESDAY\, AUGUST 13th at NOON.\n\n	COME ONE AND ALL! Let's celebrate our community and show the state how proud we are! We are counting on a large crowd!
X-ALT-DESC;FMTTYPE=text/html:<p class="p1">\n	The Emmy Award-winning <b>Making it Grow!</b> is a live\, interactive call-in program produced by ETV and Clemson University. Host Amanda McNulty from Clemson Extension along with Clemson Extension Resource Agent Terasa Young and featured guests focus on gardening topics\, while highlighting interesting places and products from around the state. Colleton Museum and Farmers Market is the <b>FEATURE!</b></p>\n<p class="p1">\n	<b>Filming begins TUESDAY\, AUGUST 13th at NOON.</b></p>\n<p class="p1">\n	<b>COME ONE AND ALL! Let&#39\;s celebrate our community and show the state how proud we are! We are counting on a large crowd!</b></p>\n
LOCATION:Colleton Museum & Farmers Market
UID:e.528.496
SEQUENCE:3
DTSTAMP:20260422T034726Z
URL:https://business.colletonchamber.org/events/details/scetv-s-making-it-grow-is-coming-to-colleton-museum-08-13-2013-496
END:VEVENT

END:VCALENDAR
