BEGIN:VCALENDAR
VERSION:2.0
PRODID:-//ChamberMaster//Event Calendar 2.0//EN
METHOD:PUBLISH
X-PUBLISHED-TTL:P3D
REFRESH-INTERVAL:P3D
CALSCALE:GREGORIAN
BEGIN:VEVENT
DTSTART:20120503T223000Z
DTEND:20120503T233000Z
X-MICROSOFT-CDO-ALLDAYEVENT:FALSE
SUMMARY:Sheriff Candidates Forum
DESCRIPTION:Meet and hear the three Republican candidates for Sheriff in the June Primary\n\n\n\nSteve Bazzle\,  Guerry Buddy Hill Jr\,  Marshall Morehead\n\n\n\nBring your questions\, neighbors and friends\n\n\n\n           Colleton County Council Chambers\n\n                     Old Jail Building\n\n                      Benson Street\n\n\n\nMiles Crosby\, Moderator\n\nSponsored and paid for by Colleton County Republican Party
X-ALT-DESC;FMTTYPE=text/html:Meet and hear the three Republican candidates for Sheriff in the June Primary<br />\n<br />\nSteve Bazzle\,&nbsp\; Guerry Buddy Hill Jr\,&nbsp\; Marshall Morehead<br />\n<br />\nBring your questions\, neighbors and friends<br />\n<br />\n&nbsp\;&nbsp\;&nbsp\;&nbsp\;&nbsp\;&nbsp\;&nbsp\;&nbsp\;&nbsp\;&nbsp\; Colleton County Council Chambers<br />\n&nbsp\;&nbsp\;&nbsp\;&nbsp\;&nbsp\;&nbsp\;&nbsp\;&nbsp\;&nbsp\;&nbsp\;&nbsp\;&nbsp\;&nbsp\;&nbsp\;&nbsp\;&nbsp\;&nbsp\;&nbsp\;&nbsp\; &nbsp\;Old Jail Building<br />\n&nbsp\;&nbsp\;&nbsp\;&nbsp\;&nbsp\;&nbsp\;&nbsp\;&nbsp\;&nbsp\;&nbsp\;&nbsp\;&nbsp\;&nbsp\;&nbsp\;&nbsp\;&nbsp\;&nbsp\;&nbsp\;&nbsp\;&nbsp\; &nbsp\;Benson Street<br />\n<br />\nMiles Crosby\, Moderator<br />\nSponsored and paid for by Colleton County Republican Party
LOCATION:Colleton County Council Chambers Old Jail Building\, Benson Street
UID:e.528.372
SEQUENCE:3
DTSTAMP:20260423T013840Z
URL:https://business.colletonchamber.org/events/details/sheriff-candidates-forum-05-03-2012-372
END:VEVENT

END:VCALENDAR
