BEGIN:VCALENDAR
VERSION:2.0
PRODID:-//ChamberMaster//Event Calendar 2.0//EN
METHOD:PUBLISH
X-PUBLISHED-TTL:P3D
REFRESH-INTERVAL:P3D
CALSCALE:GREGORIAN
BEGIN:VEVENT
DTSTART:20100330T220000Z
DTEND:20100602T000000Z
X-MICROSOFT-CDO-ALLDAYEVENT:FALSE
SUMMARY:Small Business Start-up Training
DESCRIPTION:The Center for Business Development at USC Salkehatchie Leadership Institute will offer their REAL program in Walterboro.   REAL stands for Rural Entrepreneurship through Action Learning  Snmall Business Start-up Training Training Content: -    Entrepreneurial Self Assessment Exercises -    Business Plan Awareness Exercises -    Intro to Financial Concepts Exercises -    Intro to Marketing Concepts Exercises -    Building Your Plan Exercises -    Plan Review and Presentation Taught by Patrick Ciez\, Director\, Center for Business DevelopmentUSC Salkehatchie Leadership Institute  Register early class size is limited
X-ALT-DESC;FMTTYPE=text/html:<div><span style="font-size: x-small"><span style="font-family: Times New Roman">The Center for Business Development at USC&nbsp\;Salkehatchie Leadership Institute will offer&nbsp\;their REAL program in Walterboro.&nbsp\;&nbsp\;&nbsp\;REAL&nbsp\;stands for <span style="font-size: small"><strong>R</strong></span>ural <span style="font-size: small"><strong>E</strong></span>ntrepreneurship through <span style="font-size: small"><strong>A</strong></span>ction <span style="font-size: small"><strong>L</strong></span>earning </span></span></div><div>&nbsp\;</div><div><span style="font-size: small"><span style="font-family: Times New Roman">Snmall Business Start-up Training</span></span></div><div>&nbsp\;</div><div><span style="font-family: Times New Roman"><div style="margin: 0in 0in 0pt"><span style="font-size: x-small">Training Content:</span></div><div style="margin: 0in 0in 0pt"><span style="font-size: x-small">&nbsp\;</span></div><div style="margin: 0in 0in 0pt"><span style="font-size: x-small">-&nbsp\;&nbsp\;&nbsp\;&nbsp\;Entrepreneurial Self Assessment Exercises</span></div><div style="margin: 0in 0in 0pt"><span style="font-size: x-small">&nbsp\;</span></div><div style="margin: 0in 0in 0pt"><span style="font-size: x-small">-&nbsp\;&nbsp\;&nbsp\;&nbsp\;Business Plan Awareness Exercises</span></div><div style="margin: 0in 0in 0pt"><span style="font-size: x-small">&nbsp\;</span></div><div style="margin: 0in 0in 0pt"><span style="font-size: x-small">-&nbsp\;&nbsp\;&nbsp\;&nbsp\;Intro to Financial Concepts Exercises</span></div><div style="margin: 0in 0in 0pt"><span style="font-size: x-small">&nbsp\;</span></div><div style="margin: 0in 0in 0pt"><span style="font-size: x-small">-&nbsp\;&nbsp\;&nbsp\;&nbsp\;Intro to Marketing Concepts Exercises</span></div><div style="margin: 0in 0in 0pt"><span style="font-size: x-small">&nbsp\;</span></div><div style="margin: 0in 0in 0pt"><span style="font-size: x-small">-&nbsp\;&nbsp\;&nbsp\;&nbsp\;Building Your Plan Exercises</span></div><div style="margin: 0in 0in 0pt"><span style="font-size: x-small">&nbsp\;</span></div><div style="margin: 0in 0in 0pt"><span style="font-size: x-small">-&nbsp\;&nbsp\;&nbsp\;&nbsp\;Plan Review and Presentation</span></div><div style="margin: 0in 0in 0pt"><span style="font-size: x-small">&nbsp\;</span></div><div style="margin: 0in 0in 0pt"><span style="font-size: x-small">Taught by Patrick Ciez\, Director\, Center for Business Development</span></div><div style="margin: 0in 0in 0pt"><span style="font-size: x-small">USC Salkehatchie Leadership Institute </span></div><div style="margin: 0in 0in 0pt">&nbsp\;</div><div style="margin: 0in 0in 0pt"><span style="font-size: x-small">Register early class size is limited</span></div></span></div>
LOCATION:USC Salkehatchie Campus807 Hampton StreetWalterboro\, SC Room 217
UID:e.528.170
SEQUENCE:3
DTSTAMP:20260424T084709Z
URL:https://business.colletonchamber.org/events/details/small-business-start-up-training-03-30-2010-170
END:VEVENT

END:VCALENDAR
