BEGIN:VCALENDAR
VERSION:2.0
PRODID:-//ChamberMaster//Event Calendar 2.0//EN
METHOD:PUBLISH
X-PUBLISHED-TTL:P3D
REFRESH-INTERVAL:P3D
CALSCALE:GREGORIAN
BEGIN:VEVENT
DTSTART:20130106T200000Z
DTEND:20130106T213000Z
X-MICROSOFT-CDO-ALLDAYEVENT:FALSE
SUMMARY:Songs of Radiance & Light
DESCRIPTION:St. Jude's Episcopal Church with reception immediately following the concert at Colleton Museum & Farmers Market.  Last Chance to see the Smithsonian's NEW HARMONIES exhibit!
X-ALT-DESC;FMTTYPE=text/html:<p>\n	St. Jude&#39\;s Episcopal Church with reception immediately following the concert at Colleton Museum &amp\; Farmers Market.&nbsp\; Last Chance to see the Smithsonian&#39\;s NEW HARMONIES exhibit!&nbsp\;</p>\n
LOCATION:St. Jude's Episcopal Church 907 Wichman Street Walterboro\, SC The performance is followed by a reception at Colleton Museum & Farmers Market
UID:e.528.407
SEQUENCE:3
DTSTAMP:20260422T135737Z
URL:https://business.colletonchamber.org/events/details/songs-of-radiance-light-01-06-2013-407
END:VEVENT

END:VCALENDAR
