BEGIN:VCALENDAR
VERSION:2.0
PRODID:-//ChamberMaster//Event Calendar 2.0//EN
METHOD:PUBLISH
X-PUBLISHED-TTL:P3D
REFRESH-INTERVAL:P3D
CALSCALE:GREGORIAN
BEGIN:VEVENT
DTSTART:20121118T203000Z
DTEND:20121118T223000Z
X-MICROSOFT-CDO-ALLDAYEVENT:FALSE
SUMMARY:Southern Gospel Music
DESCRIPTION:Join us at Bedon Baptist Church for an old time Southern Gospel Concert!  Sponsored by the church and the Colleton Museum & Farmers Market in celebration of the NEW HARMONIES exhibit.  Scott Davis\, Minister of Music at First Baptist will speak about the origin of this musical genre.  Followed by a concert by the Bedon Baptist Church Choir and the Grace Notes.  Reception will follow the concert at the Colleton Museum & Farmers Market where visitors will have a chance to view the Smithsonian exhibit:  NEW HARMONIES.  Concert and reception free and open to the public.
X-ALT-DESC;FMTTYPE=text/html:Join us at Bedon Baptist Church for an old time Southern Gospel Concert!&nbsp\; Sponsored by the church and the Colleton Museum &amp\; Farmers Market in celebration of the NEW HARMONIES exhibit.&nbsp\; Scott Davis\, Minister of Music at First Baptist will speak about the origin of this musical genre.&nbsp\; Followed by a concert by the Bedon Baptist Church Choir and the Grace Notes.&nbsp\; Reception will follow the concert at the Colleton Museum &amp\; Farmers Market where visitors will have a chance to view the Smithsonian exhibit:&nbsp\; NEW HARMONIES.&nbsp\; Concert and reception free and open to the public.
LOCATION:Bedon Baptist Church 2410 Cottageville Highway Walterboro\, SC Colleton Museum & Farmers Market 506 E. Washington Street Walterboro\, SC
UID:e.528.402
SEQUENCE:3
DTSTAMP:20260422T171915Z
URL:https://business.colletonchamber.org/events/details/southern-gospel-music-11-18-2012-402
END:VEVENT

END:VCALENDAR
