BEGIN:VCALENDAR
VERSION:2.0
PRODID:-//ChamberMaster//Event Calendar 2.0//EN
METHOD:PUBLISH
X-PUBLISHED-TTL:P3D
REFRESH-INTERVAL:P3D
CALSCALE:GREGORIAN
BEGIN:VEVENT
DTSTART:20110401T203000Z
DTEND:20110401T233000Z
X-MICROSOFT-CDO-ALLDAYEVENT:FALSE
SUMMARY:St. Anthony\, St. James Fish Fry
DESCRIPTION:Fish\, hushpuppies\, grits\, slaw\, and tea!  Tickets are $7/adult and $5/child.  Desserts are available for an extra $2/apiece.  Tickets can be bought in advance or at the door.
X-ALT-DESC;FMTTYPE=text/html:Fish\, hushpuppies\, grits\, slaw\, and tea!  Tickets are $7/adult and $5/child.  Desserts are available for an extra $2/apiece.  Tickets can be bought in advance or at the door.
LOCATION:925 South Jefferies Blvd
UID:e.528.271
SEQUENCE:3
DTSTAMP:20260423T193039Z
URL:https://business.colletonchamber.org/events/details/st-anthony-st-james-fish-fry-04-01-2011-271
END:VEVENT

END:VCALENDAR
