BEGIN:VCALENDAR
VERSION:2.0
PRODID:-//ChamberMaster//Event Calendar 2.0//EN
METHOD:PUBLISH
X-PUBLISHED-TTL:P3D
REFRESH-INTERVAL:P3D
CALSCALE:GREGORIAN
BEGIN:VEVENT
DTSTART;VALUE=DATE:20111025
DTEND;VALUE=DATE:20111106
TRANSP:TRANSPARENT
X-MICROSOFT-CDO-ALLDAYEVENT:TRUE
SUMMARY:Stockings for Soldiers
DESCRIPTION:Organized by Colleton County High School NJROTC.  We need donations of small items to be stuffed into stocking for solidiers. \n\n\n\nSuggestions:  Chewing gum\, crackers\, beef jerky\, sunflower seeds\, granola bars\, handheld games\, batteries\, puzzles\, lip balms\, sun-screen\, lotion\, chap stick\, grey or white socks.  Don't have time to shop?  Donations can be given - make your check out to CCHS-NJROTC Booster Club. \n\n\n\nOur soldiers are far away from home.  Please help us provide a brighter holiday for  them.
X-ALT-DESC;FMTTYPE=text/html:Organized by Colleton County High School NJROTC.&nbsp\; We need donations of small items to be stuffed into stocking for solidiers.&nbsp\;<br />\n<br />\nSuggestions:&nbsp\; Chewing gum\, crackers\, beef jerky\, sunflower seeds\, granola bars\, handheld games\, batteries\, puzzles\, lip balms\, sun-screen\, lotion\, chap stick\, grey or white socks.&nbsp\; Don&#39\;t have time to shop?&nbsp\; Donations can be given - make your check out to CCHS-NJROTC Booster Club.&nbsp\;<br />\n<br />\nOur soldiers are far away from home.&nbsp\; Please help us provide a brighter holiday for&nbsp\; them.&nbsp\; 
LOCATION:Chamber Members may bring their donations to the Business After Hours in November.
UID:e.528.307
SEQUENCE:3
DTSTAMP:20260423T100437Z
URL:https://business.colletonchamber.org/events/details/stockings-for-soldiers-10-25-2011-307
END:VEVENT

END:VCALENDAR
