BEGIN:VCALENDAR
VERSION:2.0
PRODID:-//ChamberMaster//Event Calendar 2.0//EN
METHOD:PUBLISH
X-PUBLISHED-TTL:P3D
REFRESH-INTERVAL:P3D
CALSCALE:GREGORIAN
BEGIN:VEVENT
DTSTART:20110211T000000Z
DTEND:20110211T010000Z
X-MICROSOFT-CDO-ALLDAYEVENT:FALSE
SUMMARY:Struggle for Freedom
DESCRIPTION:The Colleton County Arts Council presents Bright Star Theater in "Struggle for Freedom" an inspiring play about the life and work of Dr. Martin Luther King\, Jr. and the American Civil Rights Movement. This presentation is a part of the Colleton African-American Art Project and in celebration of Black History Month!
X-ALT-DESC;FMTTYPE=text/html:The Colleton County Arts Council presents Bright Star Theater in "Struggle for Freedom" an inspiring play about the life and work of Dr. Martin Luther King\, Jr. and the American Civil Rights Movement. This presentation is a part of the Colleton African-American Art Project and in celebration of Black History Month!
LOCATION:Hampton Street Auditorium 494 Hampton Street Walterboro\, SC 29488
UID:e.528.245
SEQUENCE:3
DTSTAMP:20260423T222240Z
URL:https://business.colletonchamber.org/events/details/struggle-for-freedom-02-10-2011-245
END:VEVENT

END:VCALENDAR
