BEGIN:VCALENDAR
VERSION:2.0
PRODID:-//ChamberMaster//Event Calendar 2.0//EN
METHOD:PUBLISH
X-PUBLISHED-TTL:P3D
REFRESH-INTERVAL:P3D
CALSCALE:GREGORIAN
BEGIN:VEVENT
DTSTART:20110329T220000Z
DTEND:20110330T000000Z
X-MICROSOFT-CDO-ALLDAYEVENT:FALSE
SUMMARY:Take Your Business To The Next Level
DESCRIPTION:Take Your Business To The Next Level\n\n	\n\n	       Social Media           Internet Marketing\n\n	\n\n	In 9 weeks learn how social media and internet marketing/advertising\n\n	can enhance your company's position in the marketplace\n\n	and increase your profitability\n\n	\n\n	FREE to Business Owners
X-ALT-DESC;FMTTYPE=text/html:<p style="text-align: center">\n	<strong><span style="font-size: 16px"><span style="font-family: times new roman"><span style="font-size: 20px">Take Your Business To The Next Level</span></span></span></strong><br />\n	<br />\n	<strong><span style="font-size: 16px"><span style="font-family: times new roman"><span style="font-size: 20px"><span style="font-size: 16px">&nbsp\;&nbsp\;&nbsp\;&nbsp\;&nbsp\;&nbsp\;&nbsp\;Social Media&nbsp\;&nbsp\;&nbsp\;&nbsp\;&nbsp\;&diams\;&nbsp\;&nbsp\;&nbsp\;&nbsp\; Internet Marketing</span></span></span></span></strong><br />\n	<br />\n	<span style="font-size: 16px"><span style="font-family: times new roman"><span style="font-size: 20px"><span style="font-size: 16px">In 9 weeks learn how social media and internet marketing/advertising<br />\n	can enhance your company&#39\;s position in the marketplace<br />\n	and increase your profitability<br />\n	<br />\n	<strong><span style="color: #b22222">FREE to Business Owners</span></strong></span></span></span></span></p>\n
LOCATION:Colleton County Memorial Library 600 Hampton Street
UID:e.528.283
SEQUENCE:3
DTSTAMP:20260423T205819Z
URL:https://business.colletonchamber.org/events/details/take-your-business-to-the-next-level-03-29-2011-283
END:VEVENT

END:VCALENDAR
