BEGIN:VCALENDAR
VERSION:2.0
PRODID:-//ChamberMaster//Event Calendar 2.0//EN
METHOD:PUBLISH
X-PUBLISHED-TTL:P3D
REFRESH-INTERVAL:P3D
CALSCALE:GREGORIAN
BEGIN:VEVENT
DTSTART:20120505T140000Z
DTEND:20120505T190000Z
X-MICROSOFT-CDO-ALLDAYEVENT:FALSE
SUMMARY:The 1st Annual Sidewalk Sale at the Waterfall Plaza
DESCRIPTION:Downtown Walterboro Merchants will bring together their unique collectibles and products to this sidewalk sale.  Don't miss out on any bargains.  Come early!  The Sale starts at 10 a.m.
X-ALT-DESC;FMTTYPE=text/html:Downtown Walterboro Merchants will bring together their unique collectibles and products to this sidewalk sale.&nbsp\; Don&#39\;t miss out on any bargains.&nbsp\; Come early!&nbsp\; The Sale&nbsp\;starts at 10 a.m.&nbsp\;
LOCATION:Waterfall Plaza on East Washington Street\, Walterboro
UID:e.528.357
SEQUENCE:3
DTSTAMP:20260423T030318Z
URL:https://business.colletonchamber.org/events/details/the-1st-annual-sidewalk-sale-at-the-waterfall-plaza-05-05-2012-357
END:VEVENT

END:VCALENDAR
