BEGIN:VCALENDAR
VERSION:2.0
PRODID:-//ChamberMaster//Event Calendar 2.0//EN
METHOD:PUBLISH
X-PUBLISHED-TTL:P3D
REFRESH-INTERVAL:P3D
CALSCALE:GREGORIAN
BEGIN:VEVENT
DTSTART:20120504T220000Z
DTEND:20120506T023000Z
X-MICROSOFT-CDO-ALLDAYEVENT:FALSE
SUMMARY:The 23rd Annual Walterboro Pro Rodeo
DESCRIPTION:The 23rd Annual Walterboro Pro Rodeo..\n\nA fully Sanctioned IRPA 7 Event Pro Rodeo.\n\nBare Back\, Saddle Broc\, Steer Wrestling\, Calf Roping\, Heading and Healing\, Barrel Horse\, Bull Riding \n\n\n\nMay 4th & 5th 2012\n\n1256 Rodeo Drive\, Walterboro\,SC. 29488\n\n\n\nGates Open @ 6pm\n\nPre-Rodeo Entertainment @ 6:30 - Annalisse and Friends - OSM Music Record  Label - from Nashville \,TN \n\nRodeo starts @ 8pm Sharp\n\n\n\nFor Information:\n\nMark Derry - 843.909.0097\n\nEMAIL : mark.derry@cowboyusallc.com\n\nWebsite: www\,doubledarena.com\n\n\n\nTicket Locations: (08) locations to better serve you....\n\nWalterboro- The Flower Shop\, Bucks Pizza \n\nHampton- Ulmers Feed and Seed\n\nRidgeville\, SC- Jasper Feed and Seed \n\nCharleston/ North Charleston/ West Ashley Areas- Both Locations of Boot Jack\n\nSummerville /Ladson- Rycycled Cowboy\n\n Ridgeland- Barnyard Feed and Supply \n\n\n\nMany\, Many Food Vendors\, Cowboy Hat and Things Vendors\, Children Playground with (06) Jump Castles \, Huge slides with Theme's\, Chrildren Trac-less Trains.. No Vendor offers the same products... \n\n\n\nAfter Rodeo Party @ Time Out Bar and Grill. - Corner of Roberson Blvd and Bells Hwy.. \n\n\n\nDirections from Charleston- \n\nHwy 17 South to Hwy 64 West - 12.6 miles - Look Left for Shriner Building - Make that Left onto Rodeo Drive\n\n\n\nDirections from Summerville- \n\nHwy 17A to Walterboro- At 1st Light make right onto Roberson Blvd- Go to 1st light - Make left onto Hwy 64East\n\nApprox 2.7 Miles - In curve - Make left onto Rodeo Drive. \n\n\n\nFrom Walterboro Exit # 57 - Beels Hwy / Hwy 64 East\, Make Left to Roberson Drive- Cross over Hwy 15\, Stay Roberson Drive ( Beltway) - Cross Over Hwy 17A - stay Roberson Drive\, 1st Light \, Make left onto HWY 64East- \n\nApprox 2.7 Miles in curve - Make Right onto Rodeo Drive\n\n\n\nWalterboro from Exit # 53-  Hwy 15N\, to HWY 303 East\, Approx 8 miles - Make Left onto Cooks Hill Road\, Make 1st Right onto Rodeo Drive \, Rodeo down on left.. \n\n\n\nFrom Beaufort : Hwy 17N - make left onto HWY 303 West \, approx 12 miles - Make Left onto Cook Hill Road\, Make 1st Left onto Rodeo Drive\, Rodeo down on Left..\n\n\n\nSEE YA AT THE RODEO !!!!!!!!!!!!!!!!!!!!!!!!!!
X-ALT-DESC;FMTTYPE=text/html:The 23rd Annual Walterboro Pro Rodeo..<br />\nA fully Sanctioned IRPA 7 Event Pro Rodeo.<br />\nBare Back\, Saddle Broc\, Steer Wrestling\, Calf Roping\, Heading and Healing\, Barrel Horse\, Bull Riding&nbsp\;<br />\n<br />\nMay 4th &amp\; 5th 2012<br />\n1256 Rodeo Drive\, Walterboro\,SC. 29488<br />\n<br />\nGates Open @ 6pm<br />\nPre-Rodeo Entertainment @ 6:30 - Annalisse and Friends - OSM Music Record &nbsp\;Label - from Nashville \,TN&nbsp\;<br />\nRodeo starts @ 8pm Sharp<br />\n<br />\nFor Information:<br />\nMark Derry - 843.909.0097<br />\nEMAIL : mark.derry@cowboyusallc.com<br />\nWebsite: www\,doubledarena.com<br />\n<br />\nTicket Locations: (08) locations to better serve you....<br />\nWalterboro- The Flower Shop\, Bucks Pizza&nbsp\;<br />\nHampton- Ulmers Feed and Seed<br />\nRidgeville\, SC- Jasper Feed and Seed&nbsp\;<br />\nCharleston/ North Charleston/ West Ashley Areas- Both Locations of Boot Jack<br />\nSummerville /Ladson- Rycycled Cowboy<br />\n&nbsp\;Ridgeland- Barnyard Feed and Supply&nbsp\;<br />\n<br />\nMany\, Many Food Vendors\, Cowboy Hat and Things Vendors\, Children Playground with (06) Jump Castles \, Huge slides with Theme&#39\;s\, Chrildren Trac-less Trains.. No Vendor offers the same products...&nbsp\;<br />\n<br />\nAfter Rodeo Party @ Time Out Bar and Grill. - Corner of Roberson Blvd and Bells Hwy..&nbsp\;<br />\n<br />\nDirections from Charleston-&nbsp\;<br />\nHwy 17 South to Hwy 64 West - 12.6 miles - Look Left for Shriner Building - Make that Left onto Rodeo Drive<br />\n<br />\nDirections from Summerville-&nbsp\;<br />\nHwy 17A to Walterboro- At 1st Light make right onto Roberson Blvd- Go to 1st light - Make left onto Hwy 64East<br />\nApprox 2.7 Miles - In curve - Make left onto Rodeo Drive.&nbsp\;<br />\n<br />\nFrom Walterboro Exit # 57 - Beels Hwy / Hwy 64 East\, Make Left to Roberson Drive- Cross over Hwy 15\, Stay Roberson Drive ( Beltway) - Cross Over Hwy 17A - stay Roberson Drive\, 1st Light \, Make left onto HWY 64East-&nbsp\;<br />\nApprox 2.7 Miles in curve - Make Right onto Rodeo Drive<br />\n<br />\nWalterboro from Exit # 53- &nbsp\;Hwy 15N\, to HWY 303 East\, Approx 8 miles - Make Left onto Cooks Hill Road\, Make 1st Right onto Rodeo Drive \, Rodeo down on left..&nbsp\;<br />\n<br />\nFrom Beaufort : Hwy 17N - make left onto HWY 303 West \, approx 12 miles - Make Left onto Cook Hill Road\, Make 1st Left onto Rodeo Drive\, Rodeo down on Left..<br />\n<br />\nSEE YA AT THE RODEO !!!!!!!!!!!!!!!!!!!!!!!!!!&nbsp\;
LOCATION:1256 Rodeo Drive\, Walterboro\,SC. 29488
UID:e.528.366
SEQUENCE:3
DTSTAMP:20260423T014253Z
URL:https://business.colletonchamber.org/events/details/the-23rd-annual-walterboro-pro-rodeo-05-04-2012-366
END:VEVENT

END:VCALENDAR
