BEGIN:VCALENDAR
VERSION:2.0
PRODID:-//ChamberMaster//Event Calendar 2.0//EN
METHOD:PUBLISH
X-PUBLISHED-TTL:P3D
REFRESH-INTERVAL:P3D
CALSCALE:GREGORIAN
BEGIN:VEVENT
DTSTART:20101121T200000Z
DTEND:20101121T220000Z
X-MICROSOFT-CDO-ALLDAYEVENT:FALSE
SUMMARY:The Best Christmas Pageant Ever
DESCRIPTION:The Best Christmas Pageant Ever\n\n	\n\n	10th Anniversary - Colleton Children's Theatre\n\n	This November the Colleton Children's Theatre will return to its roots and perform\n\n	"The Best Christmas Pageant Ever". \n\n	What a wonderful way to mark 10 years of the Colleton Children Theatre!\n\n	\n\n	Tickets for sale by Arts Council board members\, Griffin Jewelers\n\n	and Downtown Books & Espresso
X-ALT-DESC;FMTTYPE=text/html:<p style="text-align: center">\n	<span style="font-family: comic sans ms"><span style="font-size: 18px">The Best Christmas Pageant Ever<br />\n	<br />\n	<span style="font-size: 16px">10th Anniversary - Colleton Children&#39\;s Theatre<br />\n	<span style="font-size: 12px">This November the Colleton Children&#39\;s Theatre will return to its roots and perform<br />\n	&quot\;The Best Christmas Pageant Ever&quot\;.&nbsp\;<br />\n	What a wonderful way to mark 10 years of the Colleton Children Theatre!<br />\n	<br />\n	Tickets for sale by Arts Council board members\, Griffin Jewelers<br />\n	and Downtown Books &amp\; Espresso</span></span></span></span></p>\n
LOCATION:The Colleton Center (formerly Hampton Street Auditorium) 494 Hampton Street
UID:e.528.207
SEQUENCE:3
DTSTAMP:20260424T032416Z
URL:https://business.colletonchamber.org/events/details/the-best-christmas-pageant-ever-11-21-2010-207
END:VEVENT

END:VCALENDAR
