BEGIN:VCALENDAR
VERSION:2.0
PRODID:-//ChamberMaster//Event Calendar 2.0//EN
METHOD:PUBLISH
X-PUBLISHED-TTL:P3D
REFRESH-INTERVAL:P3D
CALSCALE:GREGORIAN
BEGIN:VEVENT
DTSTART:20121125T190000Z
DTEND:20121125T220000Z
X-MICROSOFT-CDO-ALLDAYEVENT:FALSE
SUMMARY:The Brothers Hiott - Live Music
DESCRIPTION:Come stroll through the Colleton Museum\, hear live music played by the Brothers Hiott\, and view the Smithsonian exhibit:  NEW HARMONIES: CELEBRATING AMERICAN ROOTS MUSIC.  Refreshments provided.  Free & Open to the public.
X-ALT-DESC;FMTTYPE=text/html:<p>\n	Come stroll through the Colleton Museum\, hear live music played&nbsp\;by the Brothers Hiott\, and view the Smithsonian exhibit:&nbsp\; NEW HARMONIES: CELEBRATING AMERICAN ROOTS MUSIC.&nbsp\; Refreshments provided.&nbsp\; Free &amp\; Open to the public.</p>\n
LOCATION:Colleton Museum & Farmers Market 506 East Washington Street Walterboro\, SC (843) 549-2303
UID:e.528.403
SEQUENCE:3
DTSTAMP:20260422T171330Z
URL:https://business.colletonchamber.org/events/details/the-brothers-hiott-live-music-11-25-2012-403
END:VEVENT

END:VCALENDAR
