BEGIN:VCALENDAR
VERSION:2.0
PRODID:-//ChamberMaster//Event Calendar 2.0//EN
METHOD:PUBLISH
X-PUBLISHED-TTL:P3D
REFRESH-INTERVAL:P3D
CALSCALE:GREGORIAN
BEGIN:VEVENT
DTSTART:20130428T220000Z
DTEND:20130428T220000Z
X-MICROSOFT-CDO-ALLDAYEVENT:FALSE
SUMMARY:THE STORY / THE MUSICAL
DESCRIPTION:The Voices of Colleton Community Choir present THE STORY / THE MUSICAL.
X-ALT-DESC;FMTTYPE=text/html:The Voices of Colleton Community Choir present THE STORY / THE MUSICAL.
LOCATION:First Baptist Church 124 S. Memorial Avenue Walterboro\, SC 29488\; located between Hampton Street and Carn Street.
UID:e.528.487
SEQUENCE:3
DTSTAMP:20260422T095144Z
URL:https://business.colletonchamber.org/events/details/the-story-the-musical-04-28-2013-487
END:VEVENT

END:VCALENDAR
