BEGIN:VCALENDAR
VERSION:2.0
PRODID:-//ChamberMaster//Event Calendar 2.0//EN
METHOD:PUBLISH
X-PUBLISHED-TTL:P3D
REFRESH-INTERVAL:P3D
CALSCALE:GREGORIAN
BEGIN:VEVENT
DTSTART:20110408T230000Z
DTEND:20110409T010000Z
X-MICROSOFT-CDO-ALLDAYEVENT:FALSE
SUMMARY:The Upton Trio In Concert!
DESCRIPTION:The Colleton County Arts Council will present Camden chamber music group\, The Upton Trio\, on April 8th.  The Upton Trio will be playing music from Grieg to Poulenc and contemporary  composer Piazzolla.  Please join us at 6:15 for a reception with wine and cheese before the concert at 7pm.
X-ALT-DESC;FMTTYPE=text/html:The Colleton County Arts Council will present Camden chamber music group\, The Upton Trio\, on April 8th.  The Upton Trio will be playing music from Grieg to Poulenc and contemporary  composer Piazzolla.  Please join us at 6:15 for a reception with wine and cheese before the concert at 7pm.
LOCATION:Hampton Street Auditorium (494 Hampton Street)
UID:e.528.291
SEQUENCE:3
DTSTAMP:20260423T195118Z
URL:https://business.colletonchamber.org/events/details/the-upton-trio-in-concert-04-08-2011-291
END:VEVENT

END:VCALENDAR
